BEGIN:VCALENDAR
VERSION:2.0
PRODID:-//160.153.0.159//NONSGML kigkonsult.se iCalcreator 2.26.9//
CALSCALE:GREGORIAN
METHOD:PUBLISH
X-FROM-URL:https://faptflorida.org
X-WR-TIMEZONE:America/New_York
BEGIN:VTIMEZONE
TZID:America/New_York
X-LIC-LOCATION:America/New_York
BEGIN:STANDARD
DTSTART:20251102T020000
TZOFFSETFROM:-0400
TZOFFSETTO:-0500
RDATE:20261101T020000
TZNAME:EST
END:STANDARD
BEGIN:DAYLIGHT
DTSTART:20260308T020000
TZOFFSETFROM:-0500
TZOFFSETTO:-0400
RDATE:20270314T020000
TZNAME:EDT
END:DAYLIGHT
END:VTIMEZONE
BEGIN:VEVENT
UID:ai1ec-14791@faptflorida.org
DTSTAMP:20260422T175617Z
CATEGORIES:
CONTACT:
DESCRIPTION:
DTSTART;VALUE=DATE:20230605
DTEND;VALUE=DATE:20230610
RDATE;TZID=America/New_York:20221205T000000
RDATE;TZID=America/New_York:20230306T000000
RDATE;TZID=America/New_York:20230605T000000
RDATE;TZID=America/New_York:20230911T000000
RDATE;TZID=America/New_York:20231204T000000
SEQUENCE:0
SUMMARY:Technician Certification
URL:https://faptflorida.org/event/technician-certification/
X-COST-TYPE:free
END:VEVENT
BEGIN:VEVENT
UID:ai1ec-14790@faptflorida.org
DTSTAMP:20260422T175617Z
CATEGORIES:
CONTACT:
DESCRIPTION:
DTSTART;VALUE=DATE:20230625
DTEND;VALUE=DATE:20230630
SEQUENCE:0
SUMMARY:2023 Summer Conference at Saddlebrook Resort
URL:https://faptflorida.org/event/2023-summer-conference-at-saddlebrook-res
 ort/
X-COST-TYPE:free
END:VEVENT
BEGIN:VEVENT
UID:ai1ec-14859@faptflorida.org
DTSTAMP:20260422T175617Z
CATEGORIES:
CONTACT:
DESCRIPTION:<div class='gmail_default'>January 18th Arrival Hotel Indigo\, 
 Tallahassee</div>\n<div class='gmail_default'>January 18 -19\, 2024 Mid-Ye
 ar Meetings</div>
DTSTART;VALUE=DATE:20240118
DTEND;VALUE=DATE:20240120
SEQUENCE:0
SUMMARY:2024 Mid-Year Director’s Meeting
URL:https://faptflorida.org/event/2024-mid-year-directors-meeting/
X-COST-TYPE:free
END:VEVENT
BEGIN:VEVENT
UID:ai1ec-14860@faptflorida.org
DTSTAMP:20260422T175617Z
CATEGORIES:
CONTACT:
DESCRIPTION:
DTSTART;VALUE=DATE:20240610
DTEND;VALUE=DATE:20240614
SEQUENCE:0
SUMMARY:2024 Technician Summer Workshop
URL:https://faptflorida.org/event/2024-technician-summer-workshop/
X-COST-TYPE:free
END:VEVENT
BEGIN:VEVENT
UID:ai1ec-14792@faptflorida.org
DTSTAMP:20260422T175617Z
CATEGORIES:
CONTACT:
DESCRIPTION:
DTSTART;VALUE=DATE:20240616
DTEND;VALUE=DATE:20240621
SEQUENCE:0
SUMMARY:Summer Conference at Marriott Resort Sawgrass\, Ponte Vedra
URL:https://faptflorida.org/event/summer-conference-at-marriott-resort-sawg
 rass-ponte-vedra/
X-COST-TYPE:free
END:VEVENT
BEGIN:VEVENT
UID:ai1ec-14963@faptflorida.org
DTSTAMP:20260422T175617Z
CATEGORIES:
CONTACT:
DESCRIPTION:
DTSTART;VALUE=DATE:20250303
DTEND;VALUE=DATE:20250308
SEQUENCE:0
SUMMARY:Technician Certification
URL:https://faptflorida.org/event/technician-certification-2/
X-COST-TYPE:free
END:VEVENT
BEGIN:VEVENT
UID:ai1ec-14967@faptflorida.org
DTSTAMP:20260422T175617Z
CATEGORIES:
CONTACT:
DESCRIPTION:
DTSTART;VALUE=DATE:20250331
DTEND;VALUE=DATE:20250404
SEQUENCE:0
SUMMARY:Driver Trainers’ Spring Workshop
URL:https://faptflorida.org/event/driver-trainers-spring-workshop/
X-COST-TYPE:free
END:VEVENT
BEGIN:VEVENT
UID:ai1ec-14961@faptflorida.org
DTSTAMP:20260422T175617Z
CATEGORIES:
CONTACT:
DESCRIPTION:
DTSTART;VALUE=DATE:20250615
DTEND;VALUE=DATE:20250620
SEQUENCE:0
SUMMARY:Summer Conference 2025
URL:https://faptflorida.org/event/summer-conference-2025/
X-COST-TYPE:free
END:VEVENT
BEGIN:VEVENT
UID:ai1ec-14964@faptflorida.org
DTSTAMP:20260422T175617Z
CATEGORIES:
CONTACT:
DESCRIPTION:
DTSTART;VALUE=DATE:20250623
DTEND;VALUE=DATE:20250628
SEQUENCE:0
SUMMARY:Technician Certification
URL:https://faptflorida.org/event/technician-certification-3/
X-COST-TYPE:free
END:VEVENT
BEGIN:VEVENT
UID:ai1ec-14962@faptflorida.org
DTSTAMP:20260422T175617Z
CATEGORIES:
CONTACT:
DESCRIPTION:
DTSTART;VALUE=DATE:20250623
DTEND;VALUE=DATE:20250628
SEQUENCE:0
SUMMARY:Technician Summer Workshop
URL:https://faptflorida.org/event/technician-summer-workshop/
X-COST-TYPE:free
END:VEVENT
BEGIN:VEVENT
UID:ai1ec-14965@faptflorida.org
DTSTAMP:20260422T175617Z
CATEGORIES:
CONTACT:
DESCRIPTION:
DTSTART;VALUE=DATE:20250908
DTEND;VALUE=DATE:20250913
SEQUENCE:0
SUMMARY:Technician Certification
URL:https://faptflorida.org/event/technician-certification-4/
X-COST-TYPE:free
END:VEVENT
BEGIN:VEVENT
UID:ai1ec-14966@faptflorida.org
DTSTAMP:20260422T175617Z
CATEGORIES:
CONTACT:
DESCRIPTION:
DTSTART;VALUE=DATE:20251208
DTEND;VALUE=DATE:20251213
SEQUENCE:0
SUMMARY:Technician Certification
URL:https://faptflorida.org/event/technician-certification-5/
X-COST-TYPE:free
END:VEVENT
BEGIN:VEVENT
UID:ai1ec-15049@faptflorida.org
DTSTAMP:20260422T175617Z
CATEGORIES:
CONTACT:
DESCRIPTION:
DTSTART;VALUE=DATE:20260406
DTEND;VALUE=DATE:20260410
SEQUENCE:0
SUMMARY:Driver Training Workshop
URL:https://faptflorida.org/event/driver-training-workshop/
X-COST-TYPE:free
END:VEVENT
BEGIN:VEVENT
UID:ai1ec-15050@faptflorida.org
DTSTAMP:20260422T175617Z
CATEGORIES:
CONTACT:
DESCRIPTION:
DTSTART;VALUE=DATE:20260411
DTEND;VALUE=DATE:20260412
SEQUENCE:0
SUMMARY:School Bus RoadEO
URL:https://faptflorida.org/event/school-bus-roadeo/
X-COST-TYPE:free
END:VEVENT
BEGIN:VEVENT
UID:ai1ec-15051@faptflorida.org
DTSTAMP:20260422T175617Z
CATEGORIES:
CONTACT:
DESCRIPTION:
DTSTART;VALUE=DATE:20260607
DTEND;VALUE=DATE:20260612
SEQUENCE:0
SUMMARY:Summer Conference
URL:https://faptflorida.org/event/summer-conference/
X-COST-TYPE:free
END:VEVENT
BEGIN:VEVENT
UID:ai1ec-15052@faptflorida.org
DTSTAMP:20260422T175617Z
CATEGORIES:
CONTACT:
DESCRIPTION:
DTSTART;VALUE=DATE:20260622
DTEND;VALUE=DATE:20260626
SEQUENCE:0
SUMMARY:Technician Summer Work Shop
URL:https://faptflorida.org/event/technician-summer-work-shop/
X-COST-TYPE:free
END:VEVENT
BEGIN:VEVENT
UID:ai1ec-15053@faptflorida.org
DTSTAMP:20260422T175617Z
CATEGORIES:
CONTACT:
DESCRIPTION:
DTSTART;VALUE=DATE:20260625
DTEND;VALUE=DATE:20260626
SEQUENCE:0
SUMMARY:Florida’s Best
URL:https://faptflorida.org/event/floridas-best/
X-COST-TYPE:free
END:VEVENT
END:VCALENDAR
